BEGIN:VCALENDAR
VERSION:2.0
PRODID:-//ASU Kerr - ECPv6.15.20//NONSGML v1.0//EN
CALSCALE:GREGORIAN
METHOD:PUBLISH
X-ORIGINAL-URL:https://asukerr.com
X-WR-CALDESC:Events for ASU Kerr
REFRESH-INTERVAL;VALUE=DURATION:PT1H
X-Robots-Tag:noindex
X-PUBLISHED-TTL:PT1H
BEGIN:VTIMEZONE
TZID:America/Phoenix
BEGIN:STANDARD
TZOFFSETFROM:-0700
TZOFFSETTO:-0700
TZNAME:MST
DTSTART:20250101T000000
END:STANDARD
END:VTIMEZONE
BEGIN:VEVENT
DTSTART;TZID=America/Phoenix:20260228T160000
DTEND;TZID=America/Phoenix:20260228T200000
DTSTAMP:20260422T140207
CREATED:20251218T221723Z
LAST-MODIFIED:20251231T215255Z
UID:10000280-1772294400-1772308800@asukerr.com
SUMMARY:6th Annual Broadway Cabaret
DESCRIPTION:Experience an unforgettable evening of music\, talent and community impact!  \n\n\n\nJoin us for a special fundraising event showcasing top performers from The Phoenix Theatre Company and Arizona Broadway Theatre as they take the stage to perform iconic songs from beloved movie musicals. From classic film favorites to modern Broadway cinematic hits\, this night promises show-stopping vocals and heartfelt performances all while supporting young dancers.  \n\n\n\nCome celebrate the arts\, lift up local talent and help us build a more inclusive and vibrant future for the next generation of performers. Don’t miss this inspiring night of music and generosity—reserve your seats today! \n\n\n\nProceeds support the PLIES Program\, a transformative initiative providing free and scholarship-based ballet training to underserved students in our community. Your attendance helps open doors for young dancers\, ensuring every child has the opportunity to experience the joy\, discipline\, and empowerment of ballet.
URL:https://asukerr.com/event/movie-musical-fundraiser-phoenix/
ATTACH;FMTTYPE=image/jpeg:https://asukerr.com/wp-content/uploads/2025/12/PLIES-TM-Image.jpeg
END:VEVENT
END:VCALENDAR