BEGIN:VCALENDAR
VERSION:2.0
PRODID:-//ASU Kerr - ECPv6.15.20//NONSGML v1.0//EN
CALSCALE:GREGORIAN
METHOD:PUBLISH
X-ORIGINAL-URL:https://asukerr.com
X-WR-CALDESC:Events for ASU Kerr
REFRESH-INTERVAL;VALUE=DURATION:PT1H
X-Robots-Tag:noindex
X-PUBLISHED-TTL:PT1H
BEGIN:VTIMEZONE
TZID:America/Phoenix
BEGIN:STANDARD
TZOFFSETFROM:-0700
TZOFFSETTO:-0700
TZNAME:MST
DTSTART:20220101T000000
END:STANDARD
END:VTIMEZONE
BEGIN:VEVENT
DTSTART;TZID=America/Phoenix:20231006T190000
DTEND;TZID=America/Phoenix:20231006T210000
DTSTAMP:20260422T164830
CREATED:20230925T170951Z
LAST-MODIFIED:20230925T170952Z
UID:10000094-1696618800-1696626000@asukerr.com
SUMMARY:Benefit Concert for the Children of Ukraine
DESCRIPTION:Benefit concert: American youth performing to raise funds for children affected by the ongoing war in Ukraine. All proceeds from the auction and concert will go directly to support children in need.  \n\n\n\nBy participating in this event\, you can help provide much-needed aid and support to those who need it most\, while also enjoying an incredible showcase of talent and creativity from some of the most talented musicians and performers in the region.  \n\n\n\nFor more details\, go to https://helpingeverywherewithart.com
URL:https://asukerr.com/event/benefit-concert-for-the-children-of-ukraine/
CATEGORIES:Other Presenters
ATTACH;FMTTYPE=image/jpeg:https://asukerr.com/wp-content/uploads/2023/09/thumbnail_young-girl-for-tickets.jpg
END:VEVENT
BEGIN:VEVENT
DTSTART;TZID=America/Phoenix:20231015T190000
DTEND;TZID=America/Phoenix:20231015T210000
DTSTAMP:20260422T164830
CREATED:20230811T204151Z
LAST-MODIFIED:20230811T204151Z
UID:10000067-1697396400-1697403600@asukerr.com
SUMMARY:Desert Rose Project Featuring the Music of Sting
DESCRIPTION:“Desert Rose Project” is a captivating band that pays homage to the legendary musician and songwriter\, Sting. With their impeccable musicianship and heartfelt performances\, this talented group takes audiences on a nostalgic journey through the iconic hits of the renowned artist. Led by Stanley Serrano\, the band captures the essence of his distinctive sound. They skillfully recreate timeless classics such as “Every Breath You Take\,” “Fields of Gold\,” “Shape of My Heart” and “Englishman in New York” while also delving into lesser-known gems from his vast discography. Drawing inspiration from a diverse range of genres\, including rock\, reggae\, jazz and pop\, “Desert Rose Project” seamlessly weaves together a tapestry of sounds\, reflecting the multifaceted brilliance of Sting’s compositions. Whether you’re a lifelong fan of Sting or a newcomer to his tunes\, “Desert Rose Project” guarantees an unforgettable experience filled with nostalgia\, energy and pure musical talent.
URL:https://asukerr.com/event/desert-rose-project-featuring-the-music-of-sting/
CATEGORIES:Other Presenters
ATTACH;FMTTYPE=image/jpeg:https://asukerr.com/wp-content/uploads/2023/08/Stanley-Serrano-1.jpg
END:VEVENT
BEGIN:VEVENT
DTSTART;TZID=America/Phoenix:20231022T150000
DTEND;TZID=America/Phoenix:20231022T190000
DTSTAMP:20260422T164830
CREATED:20230814T201057Z
LAST-MODIFIED:20230814T201058Z
UID:10000068-1697986800-1698001200@asukerr.com
SUMMARY:Jack and Jill HBCU Sneaker Jam
DESCRIPTION:Dope kicks and glossy lips! Join us at the HBCU Sneaker Jam! There will be a DJ\, prizes\, dancing and a food truck! It will family friendly fun for everyone! Proceeds will benefit the Jack & Jill HBCU GAP fund.
URL:https://asukerr.com/event/jack-and-jill-hbcu-sneaker-jam/
CATEGORIES:Other Presenters
ATTACH;FMTTYPE=image/png:https://asukerr.com/wp-content/uploads/2023/08/jj-logo-2048.png
END:VEVENT
BEGIN:VEVENT
DTSTART;TZID=America/Phoenix:20231025T163000
DTEND;TZID=America/Phoenix:20231025T180000
DTSTAMP:20260422T164830
CREATED:20231017T000356Z
LAST-MODIFIED:20231017T205141Z
UID:10000099-1698251400-1698256800@asukerr.com
SUMMARY:AZCREW Woman Icon Event
DESCRIPTION:Woman Icon Featuring Jill Donovan  \n\n\n\nAn AZCREW Signature Event  \n\n\n\nJill Donovan is a celebrated writer\, speaker\, business innovator\, and the creator behind Rustic Cuff. \n\n\n\nhttps://arizona.crewnetwork.org/ \n\n\n\n	\n\n\n\n\n			\n\nTo Buy Tickets: \n\n\n\nCall the ASU Kerr Box Office at  \n\n\n\n480-596-2660 \n\n\n\nVisit the ASU Kerr Box Office at  \n\n\n\n6110 N Scottsdale Rd\, Scottsdale AZ 85253
URL:https://asukerr.com/event/azcrew-woman-icon-event/
CATEGORIES:Other Presenters
ATTACH;FMTTYPE=image/png:https://asukerr.com/wp-content/uploads/2023/10/azcrewwithtrademark-2048x1152-1.png
END:VEVENT
BEGIN:VEVENT
DTSTART;TZID=America/Phoenix:20231027T180000
DTEND;TZID=America/Phoenix:20231027T210000
DTSTAMP:20260422T164830
CREATED:20230830T164100Z
LAST-MODIFIED:20231026T194120Z
UID:10000073-1698429600-1698440400@asukerr.com
SUMMARY:An Evening with Paul Wilson
DESCRIPTION:Some of us know Phoenix native Paul Wilson as “the guy who remade The Poseidon Adventure\,” while others think of him as the artist whose work of the last 16 years has reimagined alleged assassin Lee Harvey Oswald as a swoony dreamboat who never hurt a fly. Others know Wilson as “that 1950s guy” whose beautifully-appointed mid-century home has been documented in print and on television. “An Evening with Paul Wilson” is a celebration of all of these men. One of Arizona’s most fascinating local artists\, Wilson is a painter\, filmmaker and assemblage artist who’s fascinated with pop culture and post-Cold War chaos; a man whom Kirstie Alley once referred to in The National Enquirer as “that weirdo who’s in love with my husband.” Join us for an evening that will include a gallery show of Wilson’s work\, a montage of clips from his short films\, and an onstage interview with the artist.
URL:https://asukerr.com/event/an-evening-with-paul-wilson/
CATEGORIES:Other Presenters
ATTACH;FMTTYPE=image/jpeg:https://asukerr.com/wp-content/uploads/2023/08/Paul-A-for-Kerr-1.jpg
END:VEVENT
END:VCALENDAR