BEGIN:VCALENDAR
VERSION:2.0
PRODID:-//ASU Kerr - ECPv6.15.20//NONSGML v1.0//EN
CALSCALE:GREGORIAN
METHOD:PUBLISH
X-ORIGINAL-URL:https://asukerr.com
X-WR-CALDESC:Events for ASU Kerr
REFRESH-INTERVAL;VALUE=DURATION:PT1H
X-Robots-Tag:noindex
X-PUBLISHED-TTL:PT1H
BEGIN:VTIMEZONE
TZID:America/Phoenix
BEGIN:STANDARD
TZOFFSETFROM:-0700
TZOFFSETTO:-0700
TZNAME:MST
DTSTART:20230101T000000
END:STANDARD
END:VTIMEZONE
BEGIN:VEVENT
DTSTART;TZID=America/Phoenix:20240126T180000
DTEND;TZID=America/Phoenix:20240126T203000
DTSTAMP:20260422T113539
CREATED:20231127T191901Z
LAST-MODIFIED:20231127T192022Z
UID:10000108-1706292000-1706301000@asukerr.com
SUMMARY:Pop! Goes the Theater - Almost Famous Theatre Company
DESCRIPTION:Almost Famous Theatre Company Foundation’s (AFTCF) annual Gala is an inspiring and fun evening that fuels performing arts education\, transforms lives one role at a time\, and brings joy to the community through the shared experience of live theater. The evening includes performances by AFTCF actors and improv students\, silent and live auctions\, and much more!  \n\n\n\nYour support will:  \n\n\n\nDevelop talent in youth and adult actors  \n\n\n\nEnable five full-length Broadway show productions  \n\n\n\nProvide Summer Camp for youth and college mentor  \n\n\n\nContinue after school acting and development classes  \n\n\n\nBuild self-confidence and leadership skills through the performing arts  \n\n\n\nQuestions or sponsorship inquiries\, please contact jan@almostfamoustheater.com  \n\n\n\nProceeds benefit Almost Famous Theatre Company Foundation Tax ID # 81-5199277 \n\n\n\n50/50 Raffle and Additional Donations: https://go.rallyup.com/d8b085/Campaign/Details \n\n\n\nAlmost Famous Theatre Company Website: \n\n\n\n\nHome
URL:https://asukerr.com/event/pop-goes-the-theater-almost-famous-theatre-company/
CATEGORIES:Other Presenters
ATTACH;FMTTYPE=image/png:https://asukerr.com/wp-content/uploads/2023/11/AFTC-Header.png
END:VEVENT
BEGIN:VEVENT
DTSTART;TZID=America/Phoenix:20240127T193000
DTEND;TZID=America/Phoenix:20240127T210000
DTSTAMP:20260422T113539
CREATED:20240102T155808Z
LAST-MODIFIED:20240108T235325Z
UID:10000112-1706383800-1706389200@asukerr.com
SUMMARY:No-No Boy
DESCRIPTION:Join Julian and Emilia Saporiti of No-No Boy for an immersive multimedia concert at ASU Kerr. The event combines folk songs\, place-based sound recordings\, archival materials\, thermal images of desert environments and storytelling to communicate the rich possibilities of engaging with place. Some of the songs performed at the concert will emerge from arts-based fieldwork conducted in the Phoenix Valley.  \n\n\n\nNo-No Boy’s integrative approach to music-making prompts us to consider how individuals often “find themselves and a sense of community through the past.” The sonic samples of place\, including from immigrant detention centers and WWII Japanese internment camps\, run through the landscape of No-No Boy’s music\, making present the people and places often absented in the telling of history. In a documentary made about No-No Boy’s work\, Julian states\, “History is a mess that doesn’t make sense…… but songs are such a wonderful way to deal with it. You can sit with the mess and sing through the mess – and that can allow you to shine light on what’s happening today.” \n\n\n\nTickets are free\, but you must register in advance.  \n\n\n\nDoors open at 6:30 p.m. AZ MST for a light reception. \n\n\n\nConcert will begin at 7:30 p.m. \n\n\n\nBio: \n\n\n\nNo-No Boy is a collaborative performance with Julian Saporiti and Emilia Halvorsen Saporiti. The No-No Boy project developed as a central component of Julian’s PhD research at Brown University. They have released three albums: 1942\, 1975 and Electric Empire. \n\n\n\n \n\n\n\nCo-sponsorships: \n\n\n\nFunded by a Seed Grant from ASU’s Humanities Institute\, and sponsored by ASU’s Desert Humanities Initiative\, School of Historical\, Philosophical & and Religious Studies\, Environmental Humanities Initiative\, Global Institute of Sustainability and Innovation and Public History.  Additional support from the College of Integrative Sciences & Arts and the Hugh Downs School of Human Communication.
URL:https://asukerr.com/event/no-no-boy/
CATEGORIES:Free,Other Presenters
ATTACH;FMTTYPE=image/jpeg:https://asukerr.com/wp-content/uploads/2024/01/Julian-NNB-Colorful-Press-Photo-FINAL-4-for-ASU-Events.jpg
END:VEVENT
END:VCALENDAR