BEGIN:VCALENDAR
VERSION:2.0
PRODID:-//ASU Kerr - ECPv6.15.20//NONSGML v1.0//EN
CALSCALE:GREGORIAN
METHOD:PUBLISH
X-WR-CALNAME:ASU Kerr
X-ORIGINAL-URL:https://asukerr.com
X-WR-CALDESC:Events for ASU Kerr
REFRESH-INTERVAL;VALUE=DURATION:PT1H
X-Robots-Tag:noindex
X-PUBLISHED-TTL:PT1H
BEGIN:VTIMEZONE
TZID:America/Phoenix
BEGIN:STANDARD
TZOFFSETFROM:-0700
TZOFFSETTO:-0700
TZNAME:MST
DTSTART:20230101T000000
END:STANDARD
END:VTIMEZONE
BEGIN:VEVENT
DTSTART;TZID=America/Phoenix:20240425T140000
DTEND;TZID=America/Phoenix:20240427T190000
DTSTAMP:20260422T065052
CREATED:20240327T212617Z
LAST-MODIFIED:20240327T214950Z
UID:10000125-1714053600-1714244400@asukerr.com
SUMMARY:Disney's The Little Mermaid JR. - Rancho Solano Preparatory School
DESCRIPTION:Four shows (click each date for tickets):Thursday\, April 25 at 7 p.m.Friday\, April 26 at 7 p.m.Saturday\, April 27 at 2 p.m.Saturday\, April 27 at 7 p.m. \n\n\n\nJourney under the sea with Ariel and her aquatic friends in Disney’s The Little Mermaid JR.\, adapted from Disney’s Broadway production and the motion picture (featuring the enormously popular Academy Award-winning music and delightfully charming book and lyrics). \n\n\n\nBased on one of Hans Christian Andersen’s most beloved stories\, Disney’s The Little Mermaid JR. is an enchanting look at the sacrifices we all make for love and acceptance. \n\n\n\npresented by Rancho Solano Preparatory School
URL:https://asukerr.com/event/disneys-the-little-mermaid-jr-rancho-solano-preparatory-school/
CATEGORIES:Other Presenters
ATTACH;FMTTYPE=image/png:https://asukerr.com/wp-content/uploads/2024/03/little-mermaid-jr-TM.png
END:VEVENT
BEGIN:VEVENT
DTSTART;TZID=America/Phoenix:20240429T193000
DTEND;TZID=America/Phoenix:20240429T220000
DTSTAMP:20260422T065052
CREATED:20240418T182922Z
LAST-MODIFIED:20240418T182939Z
UID:10000127-1714419000-1714428000@asukerr.com
SUMMARY:ASU Music Theatre Cabarets - Night 1
DESCRIPTION:Music Theatre CabaretsDirected by Toby YatsoMusic Direction by Lindsay MillerCabarets created and presented by ASU Music Theatre Performance students! \n\n\n\nJoin us for an evening of entertaining songs and stories\, cleverly woven together with a personal touch. Each member of the class develops\, writes and performs their own 15-minute solo cabaret act with live piano accompaniment\, designed to create an intimate musical experience built on the fundamental concepts of cabaret — being yourself on purpose and connecting with the audience.  \n\n\n\nFeaturing 18 young artists\, these will be presented over two evenings.  \n\n\n\nRefreshments available during the event. Ticket proceeds help to fund the annual Music Theatre Showcase trip to New York City. \n\n\n\nContent warning: Contains strong language and other material that may not be suitable for young audiences.
URL:https://asukerr.com/event/asu-music-theatre-cabarets-night-1/
CATEGORIES:Other Presenters
ATTACH;FMTTYPE=image/jpeg:https://asukerr.com/wp-content/uploads/2024/04/pexels-pixabay-164829-scaled.jpg
END:VEVENT
BEGIN:VEVENT
DTSTART;TZID=America/Phoenix:20240430T193000
DTEND;TZID=America/Phoenix:20240430T220000
DTSTAMP:20260422T065052
CREATED:20240418T183359Z
LAST-MODIFIED:20240418T183400Z
UID:10000128-1714505400-1714514400@asukerr.com
SUMMARY:ASU Music Theatre Cabarets - Night 2
DESCRIPTION:Music Theatre CabaretsDirected by Toby YatsoMusic Direction by Lindsay MillerCabarets created and presented by ASU Music Theatre Performance students! \n\n\n\nJoin us for an evening of entertaining songs and stories\, cleverly woven together with a personal touch. Each member of the class develops\, writes and performs their own 15-minute solo cabaret act with live piano accompaniment\, designed to create an intimate musical experience built on the fundamental concepts of cabaret — being yourself on purpose and connecting with the audience.  \n\n\n\nFeaturing 18 young artists\, these will be presented over two evenings.  \n\n\n\nRefreshments available during the event. Ticket proceeds help to fund the annual Music Theatre Showcase trip to New York City. \n\n\n\nContent warning: Contains strong language and other material that may not be suitable for young audiences.
URL:https://asukerr.com/event/asu-music-theatre-cabarets-night-2/
CATEGORIES:Other Presenters
ATTACH;FMTTYPE=image/jpeg:https://asukerr.com/wp-content/uploads/2024/04/pexels-pixabay-164829-scaled.jpg
END:VEVENT
END:VCALENDAR