BEGIN:VCALENDAR
VERSION:2.0
PRODID:-//ASU Kerr - ECPv6.15.20//NONSGML v1.0//EN
CALSCALE:GREGORIAN
METHOD:PUBLISH
X-ORIGINAL-URL:https://asukerr.com
X-WR-CALDESC:Events for ASU Kerr
REFRESH-INTERVAL;VALUE=DURATION:PT1H
X-Robots-Tag:noindex
X-PUBLISHED-TTL:PT1H
BEGIN:VTIMEZONE
TZID:America/Phoenix
BEGIN:STANDARD
TZOFFSETFROM:-0700
TZOFFSETTO:-0700
TZNAME:MST
DTSTART:20240101T000000
END:STANDARD
END:VTIMEZONE
BEGIN:VEVENT
DTSTART;TZID=America/Phoenix:20251012T190000
DTEND;TZID=America/Phoenix:20251012T203000
DTSTAMP:20260420T222744
CREATED:20250806T172118Z
LAST-MODIFIED:20250808T230144Z
UID:10000246-1760295600-1760301000@asukerr.com
SUMMARY:Colored Lights
DESCRIPTION:Step right up to an unforgettable evening of song\, dance\, and wonderment at this carnival inspired concert!  Nicole Larsen\, international performer and Arizona Opera Ambassador\, presents her most intimate show yet. Through selected songs from the operatic and musical theater repertoire\, she weaves a tale which tells the personal journey of chasing dreams\, getting caught up in this world and what is has to offer\, getting pulled down by lies and enticements only to realize her soul longed for something more.  Vulnerable and engaging\, Nicole will challenge and encourage you on your own life journey.   \n\n\n\nJoining forces is Dr. Klara Kukumi – one of Arizona’s premier collaborative pianists.  Born and raised in Albania\, Klara graduated with her bachelor’s degree from the Institute of Fine Arts in Tirana\, and furthered her musical education by earning a master’s degree from Brigham Young University\, a diploma of pianist studies from the University of Southern California\, and a doctorate from Arizona State University.  Nicole is so happy for the continued friendship and collaboration with Dr Kukumi.  Her passion and artistry are sure to leave you inspired! \n\n\n\nSharing the stage is world class tenor\, Javier Gonzalez.  He is recognized for the “precision and soaring beauty of his tone\,” and has been described by music critic and composer Daniel S. Crafts as a “…bold arresting tenor… with a shining lyricism.”  Having studied under such singers as Medea Namoradze-Ruhadze\, noted Georgian soprano\, and under Professor Leslie Umphrey at the University of New Mexico\, he has performed in concert and opera productions playing the roles of Javier in Luisa Fernanda\, Tamino in Die Zauberflöte\, Canio in I’Pagliacci\, Pinkerton in Madama Butterfly\, Don Jose in Bizet’s Carmen\, Edgar in Puccini’s Edgar\, Roberto in Puccini’s Le Villi\, and Opera Southwest’s revival debut of Franco Faccio’s Amleto playing the role of Laerte.  Notably\, Mr. Gonzalez has performed with world-renowned tenor Placido Domingo on the Kennedy Center opera stage and has also performed on the stage of Carnegie Hall in New York City under the baton of world-renowned composer John Rutter. \n\n\n\nJoin us for an experience you’ll never forget!  With special guests Christal Roundtree\, Molly Sunderhaus\, and Vivian Aldrete\, this stupendous cast is sure to delight the senses and awaken the soul.  There is something for everyone to enjoy!  With one night only\, you won’t want to miss this once in a lifetime event!
URL:https://asukerr.com/event/colored-lights/
CATEGORIES:Other Presenters
ATTACH;FMTTYPE=image/jpeg:https://asukerr.com/wp-content/uploads/2025/08/Untitled-design.jpg
END:VEVENT
BEGIN:VEVENT
DTSTART;TZID=America/Phoenix:20251017T200000
DTEND;TZID=America/Phoenix:20251017T213000
DTSTAMP:20260420T222744
CREATED:20250805T190430Z
LAST-MODIFIED:20250805T190432Z
UID:10000245-1760731200-1760736600@asukerr.com
SUMMARY:MOHSEN NAMJOO LIVE IN SCOTSDALE / SOLO PERFORMANCE & MINOOOR
DESCRIPTION:Mohsen Namjoo\, singer songwriter\, music scholar and Setar player who seamlessly blends classical Persian music with electric guitar\, Rock and the Blues will perform on October 17th at ASU Kerr\, Scottsdale AZ. \n\n\n\nThis evening will showcase Mohsen Namjoo’s musical prowess\, beginning with a solo performance from his new ‘Minooor’ project\, followed by another solo set after a short intermission. \n\n\n\nThe new “Minooor” Project starts the first part of the program which features a solo performance by Mohsen Namjoo\, with videos playing in the background accompanying the performance as an audio/visual journey through a small segment of contemporary Iranian history. Essentially\, Namjoo invites us to revisit our auditory and visual memories and recall the sounds that permeated lives in the 1980s. \n\n\n\nGeneral Admission seating is first come\, first served. \n\n\n\nNOTE: Organizer has the right to refuse service or suspend or revoke access privileges to any guest who is not following rules\, unreasonably rowdy or disturbing the use and enjoyment of others\, including Artists staff and volunteers. \n\n\n\nALL SALES ARE FINAL\, NO REFUNDS WILL BE ISSUED!
URL:https://asukerr.com/event/mohsen-namjoo/
CATEGORIES:Other Presenters
ATTACH;FMTTYPE=image/jpeg:https://asukerr.com/wp-content/uploads/2025/08/Scottsdale_oct17_fb.jpg
END:VEVENT
END:VCALENDAR