BEGIN:VCALENDAR
VERSION:2.0
PRODID:-//ASU Kerr - ECPv6.15.20//NONSGML v1.0//EN
CALSCALE:GREGORIAN
METHOD:PUBLISH
X-ORIGINAL-URL:https://asukerr.com
X-WR-CALDESC:Events for ASU Kerr
REFRESH-INTERVAL;VALUE=DURATION:PT1H
X-Robots-Tag:noindex
X-PUBLISHED-TTL:PT1H
BEGIN:VTIMEZONE
TZID:America/Phoenix
BEGIN:STANDARD
TZOFFSETFROM:-0700
TZOFFSETTO:-0700
TZNAME:MST
DTSTART:20250101T000000
END:STANDARD
END:VTIMEZONE
BEGIN:VEVENT
DTSTART;TZID=America/Phoenix:20260329T150000
DTEND;TZID=America/Phoenix:20260329T170000
DTSTAMP:20260420T153047
CREATED:20260306T214053Z
LAST-MODIFIED:20260328T005801Z
UID:10000289-1774796400-1774803600@asukerr.com
SUMMARY:Phoenix Magic Club: An Afternoon of Magic
DESCRIPTION:Phoenix Magic Club Presents: An Afternoon of Magic \n\n\n\nJoin us for a fun\, family-friendly afternoon of live magic on Sunday\, March 29 at 3:00 PM!  \n\n\n\nMembers of the Phoenix Magic Club will take the stage to share an exciting variety of magical performances—from sleight-of-hand and mind-reading to visual illusions and comedy magic. This clean\, high-energy show is designed for audiences of all ages and is a perfect outing for families\, friends and anyone who enjoys a little wonder.  \n\n\n\nCome experience the mystery and laughter that happens when some of the Valley’s most passionate magicians gather to perform live.
URL:https://asukerr.com/event/phoenix-magic-club-magic-show/
CATEGORIES:Other Presenters
ATTACH;FMTTYPE=image/jpeg:https://asukerr.com/wp-content/uploads/2026/03/PMCImage.jpg
END:VEVENT
END:VCALENDAR