BEGIN:VCALENDAR
VERSION:2.0
PRODID:-//ASU Kerr - ECPv6.15.20//NONSGML v1.0//EN
CALSCALE:GREGORIAN
METHOD:PUBLISH
X-WR-CALNAME:ASU Kerr
X-ORIGINAL-URL:https://asukerr.com
X-WR-CALDESC:Events for ASU Kerr
REFRESH-INTERVAL;VALUE=DURATION:PT1H
X-Robots-Tag:noindex
X-PUBLISHED-TTL:PT1H
BEGIN:VTIMEZONE
TZID:America/Phoenix
BEGIN:STANDARD
TZOFFSETFROM:-0700
TZOFFSETTO:-0700
TZNAME:MST
DTSTART:20250101T000000
END:STANDARD
END:VTIMEZONE
BEGIN:VEVENT
DTSTART;TZID=America/Phoenix:20260428T193000
DTEND;TZID=America/Phoenix:20260428T213000
DTSTAMP:20260420T113252
CREATED:20260410T010437Z
LAST-MODIFIED:20260415T191416Z
UID:10000304-1777404600-1777411800@asukerr.com
SUMMARY:Music Theatre Solo Cabarets – Night 1
DESCRIPTION:Cabarets created and presented by ASU Music Theatre Performance students!  \n\n\n\nJoin us for an evening of entertaining songs and stories\, cleverly woven together with a personal touch. Each member of the class develops\, writes and performs their own 15-minute solo cabaret act with live piano accompaniment\, designed to create an intimate musical experience built on the fundamental concepts of cabaret– being yourself on purpose and connecting with the audience.  \n\n\n\nCash bar and refreshments are available during the event!  \n\n\n\nThis production contains mature themes\, adult language and is intended for mature audiences. \n\n\n\nTicket proceeds help fund the annual Music Theatre Showcase trip to New York City.
URL:https://asukerr.com/event/asu-student-cabaret-performance/
CATEGORIES:Other Presenters
ATTACH;FMTTYPE=image/jpeg:https://asukerr.com/wp-content/uploads/2026/04/microphoneMTO.jpg
END:VEVENT
BEGIN:VEVENT
DTSTART;TZID=America/Phoenix:20260429T193000
DTEND;TZID=America/Phoenix:20260429T213000
DTSTAMP:20260420T113252
CREATED:20260410T010642Z
LAST-MODIFIED:20260415T191430Z
UID:10000305-1777491000-1777498200@asukerr.com
SUMMARY:Music Theatre Solo Cabarets – Night 2
DESCRIPTION:Cabarets created and presented by ASU Music Theatre Performance students!  \n\n\n\nJoin us for an evening of entertaining songs and stories\, cleverly woven together with a personal touch. Each member of the class develops\, writes and performs their own 15-minute solo cabaret act with live piano accompaniment\, designed to create an intimate musical experience built on the fundamental concepts of cabaret– being yourself on purpose and connecting with the audience.  \n\n\n\nCash bar and refreshments are available during the event!  \n\n\n\nThis production contains mature themes\, adult language and is intended for mature audiences. \n\n\n\nTicket proceeds help fund the annual Music Theatre Showcase trip to New York City.
URL:https://asukerr.com/event/music-theatre-solo-cabarets-night-2/
CATEGORIES:Other Presenters
ATTACH;FMTTYPE=image/jpeg:https://asukerr.com/wp-content/uploads/2026/04/microphoneMTO.jpg
END:VEVENT
BEGIN:VEVENT
DTSTART;TZID=America/Phoenix:20260430T193000
DTEND;TZID=America/Phoenix:20260430T213000
DTSTAMP:20260420T113252
CREATED:20260410T010745Z
LAST-MODIFIED:20260415T191442Z
UID:10000306-1777577400-1777584600@asukerr.com
SUMMARY:Music Theatre Solo Cabarets – Night 3
DESCRIPTION:Cabarets created and presented by ASU Music Theatre Performance students!  \n\n\n\nJoin us for an evening of entertaining songs and stories\, cleverly woven together with a personal touch. Each member of the class develops\, writes and performs their own 15-minute solo cabaret act with live piano accompaniment\, designed to create an intimate musical experience built on the fundamental concepts of cabaret– being yourself on purpose and connecting with the audience.  \n\n\n\nCash bar and refreshments are available during the event!  \n\n\n\nThis production contains mature themes\, adult language and is intended for mature audiences. \n\n\n\nTicket proceeds help fund the annual Music Theatre Showcase trip to New York City.
URL:https://asukerr.com/event/music-theatre-solo-cabarets-night-3/
CATEGORIES:Other Presenters
ATTACH;FMTTYPE=image/jpeg:https://asukerr.com/wp-content/uploads/2026/04/microphoneMTO.jpg
END:VEVENT
END:VCALENDAR