BEGIN:VCALENDAR
VERSION:2.0
PRODID:-//ASU Kerr - ECPv6.15.20//NONSGML v1.0//EN
CALSCALE:GREGORIAN
METHOD:PUBLISH
X-ORIGINAL-URL:https://asukerr.com
X-WR-CALDESC:Events for ASU Kerr
REFRESH-INTERVAL;VALUE=DURATION:PT1H
X-Robots-Tag:noindex
X-PUBLISHED-TTL:PT1H
BEGIN:VTIMEZONE
TZID:America/Phoenix
BEGIN:STANDARD
TZOFFSETFROM:-0700
TZOFFSETTO:-0700
TZNAME:MST
DTSTART:20250101T000000
END:STANDARD
END:VTIMEZONE
BEGIN:VEVENT
DTSTART;TZID=America/Phoenix:20260515T193000
DTEND;TZID=America/Phoenix:20260515T211500
DTSTAMP:20260421T194111
CREATED:20260323T223754Z
LAST-MODIFIED:20260421T225939Z
UID:10000296-1778873400-1778879700@asukerr.com
SUMMARY:Emma & James – Formal Concert & Filmed Showcase
DESCRIPTION:Join Emma & James Music at ASU Kerr on Friday\, May 15\, for a special formal filmed showcase — an intimate\, elevated evening of original live music where the audience becomes part of a professionally captured performance experience. \n\n\n\nEmma & James Music is a husband-and-wife duo known for soulful\, smoky vocals\, blues- and rock-influenced alternative originals and songs that range from intimate and haunting to deep and emotionally powerful. Joined by additional musicians for this event\, they will bring a fuller live sound to a night designed to feel visually memorable\, immersive and special. \n\n\n\nGuests are invited to dress up and enjoy more than a typical concert. Set in the unique atmosphere of ASU Kerr\, this one-night event is created for music lovers\, date nights and anyone who wants to be part of something that feels both meaningful and memorable. Guests are also encouraged to arrive early\, settle in and enjoy the venue’s pre-show atmosphere\, with the bar open before the performance and through intermission. \n\n\n\nWith a polished live presence shaped by years of performance experience\, Emma & James aim to create an evening that feels both personal and cinematic — a special night out where the audience helps create the energy\, atmosphere and captured experience of the show itself. \n\n\n\nYouTube: @EmmaAndJames (https://www.youtube.com/@EmmaAndJames) \n\n\n\nFacebook: @emmaandjames (https://www.facebook.com/emmaandjames/)
URL:https://asukerr.com/event/emma-james-formal-concert-filmed-showcase/
CATEGORIES:Other Presenters
ATTACH;FMTTYPE=image/png:https://asukerr.com/wp-content/uploads/2026/03/3.png
END:VEVENT
END:VCALENDAR