BEGIN:VCALENDAR
VERSION:2.0
PRODID:-//ASU Kerr - ECPv6.15.20//NONSGML v1.0//EN
CALSCALE:GREGORIAN
METHOD:PUBLISH
X-ORIGINAL-URL:https://asukerr.com
X-WR-CALDESC:Events for ASU Kerr
REFRESH-INTERVAL;VALUE=DURATION:PT1H
X-Robots-Tag:noindex
X-PUBLISHED-TTL:PT1H
BEGIN:VTIMEZONE
TZID:America/Phoenix
BEGIN:STANDARD
TZOFFSETFROM:-0700
TZOFFSETTO:-0700
TZNAME:MST
DTSTART:20210101T000000
END:STANDARD
END:VTIMEZONE
BEGIN:VEVENT
DTSTART;TZID=America/Phoenix:20230223T190000
DTEND;TZID=America/Phoenix:20230223T213000
DTSTAMP:20260420T151359
CREATED:20230113T175303Z
LAST-MODIFIED:20230113T192407Z
UID:10000038-1677178800-1677187800@asukerr.com
SUMMARY:Larisa Denman & Ensemble Elite
DESCRIPTION:Larisa Denman\, pianist and composer\, with her “Ensemble Elite\,” present a new program of original music accompanied by ballet dancers! This is a unique opportunity to immerse yourself in the remarkable world of contemporary art\, aesthetic pleasure and cultural enrichment. \n\n\n\nDoors with refreshments at 6:30 pm\, performance begins at 7 pm.
URL:https://asukerr.com/event/larisa-denman-and-ensemble-elite/
CATEGORIES:Other Presenters
ATTACH;FMTTYPE=image/jpeg:https://asukerr.com/wp-content/uploads/2023/01/Final-TM-Image-Larisa-Denman.jpg
END:VEVENT
BEGIN:VEVENT
DTSTART;TZID=America/Phoenix:20230209T160000
DTEND;TZID=America/Phoenix:20230209T180000
DTSTAMP:20260420T151359
CREATED:20230201T025636Z
LAST-MODIFIED:20230201T025637Z
UID:10000041-1675958400-1675965600@asukerr.com
SUMMARY:Dr. Barb's Speak Off
DESCRIPTION:Join us to watch professional football players\, plus pro athlete wives and significant others put their gifts of gab\, stories and personalities to the test in a friendly public speaking competition that will benefit the winners’ favorite foundations. They will compete in different categories with the men going against the men\, and the wives engaging in their own competition. Three celebrity judges will decide the winners\, who will receive a donation for their favorite charity. This is an in-person event that will ALSO be live-streamed. All profits from ticket sales will be donated to Off the Field Players? Wives Association\, a 501(c)3 that supports family-focused charitable organizations. \n\n	\n\n\n\n\n			\n\nA Public Speaking Competition for Pro Athletes
URL:https://asukerr.com/event/dr-barbs-speak-off/
CATEGORIES:Other Presenters
ATTACH;FMTTYPE=image/jpeg:https://asukerr.com/wp-content/uploads/2023/01/drbarb.jpeg
END:VEVENT
BEGIN:VEVENT
DTSTART;TZID=America/Phoenix:20230129T190000
DTEND;TZID=America/Phoenix:20230129T210000
DTSTAMP:20260420T151359
CREATED:20230110T144201Z
LAST-MODIFIED:20230110T144506Z
UID:10000036-1675018800-1675026000@asukerr.com
SUMMARY:Michael Smerconish: In Conversation
DESCRIPTION:Michael Smerconish is the host of a daily radio program heard nationwide on SiriusXM’s POTUS channel. He is also the host of CNN’s “Smerconish” which airs Saturdays at 9 a.m. ET.  \n\n\n\n \n\n\n\nSmerconish was a longtime newspaper columnist for the Philadelphia Daily News and Sunday Philadelphia Inquirer and his columns were routinely re-printed in newspapers all across the country. He is the author of seven books. He has donated the proceeds for four of them to charity. One was a novel\, “TALK\,” for which the television rights were optioned by Warner Brothers. His latest book is titled “Clowns to the Left of Me\, Jokers to the Right: American Life in Columns.” His one-man live performance “Things I Wish Knew Before I Started Talking” is a TV special streaming on Hulu. He is of counsel at the Philadelphia law firm of Kline & Specter.  \n\n\n\nSmerconish is a Phi Beta Kappa graduate of Lehigh University and the University of Pennsylvania Law School and resides in the Philadelphia suburbs where he and his wife have raised four children. \n\n\n\nsmerconish.com \n\n	\n\n\n\n\n			\n\nMichael Smerconish is the host of a daily radio program heard nationwide on SiriusXM’s POTUS channel. He is also the host of CNN’s “Smerconish.” Join him for a rare and intimate conversation. Seating is limited.
URL:https://asukerr.com/event/michael-smerconish-in-conversation/
CATEGORIES:Other Presenters
ATTACH;FMTTYPE=image/jpeg:https://asukerr.com/wp-content/uploads/2023/01/smerconish2022.jpg
END:VEVENT
BEGIN:VEVENT
DTSTART;TZID=America/Phoenix:20230121T193000
DTEND;TZID=America/Phoenix:20230121T213000
DTSTAMP:20260420T151359
CREATED:20230105T182026Z
LAST-MODIFIED:20230106T204653Z
UID:10000035-1674329400-1674336600@asukerr.com
SUMMARY:In the Spirit of Lennon
DESCRIPTION:John Lennon has been gone for more than four decades but his music endures. Drew Harrison presents a loving\, emotionally charged retrospective of the life and career of one of the most popular artists of all time\, told through stories and songs from The Beatles years through the final recordings of his life. Gifted with the most natural\, effortless Lennon voice in the music world\, Harrison has been performing John’s songs and weaving the tales and anecdotes that go along with them for nearly two decades. Don’t miss this intensely personal evening\, as Drew Harrison brings to life the career of one of the best loved and most intriguing artists of our time.
URL:https://asukerr.com/event/in-the-spirit-of-lennon/
CATEGORIES:Other Presenters
ATTACH;FMTTYPE=image/jpeg:https://asukerr.com/wp-content/uploads/2023/01/ITSOL-with-TC-2023-1.jpg
END:VEVENT
BEGIN:VEVENT
DTSTART;TZID=America/Phoenix:20221218T153000
DTEND;TZID=America/Phoenix:20221218T173000
DTSTAMP:20260420T151359
CREATED:20221123T195006Z
LAST-MODIFIED:20221216T203006Z
UID:10000034-1671377400-1671384600@asukerr.com
SUMMARY:A Swingin’ Christmas!
DESCRIPTION:Back again! Join Shana Bousard and Brian Runbeck as they reunite with Scott Hay (drums) and Joe Bousard (piano and vocals) to bring back their holiday cabaret full of swingin’ favorites and unexpected new surprises. Come celebrate and join in the fun! \n\n	\n\n\n\n\n			\n\nJoin Shana Bousard and Brian Runbeck as they reunite with Scott Hay (drums) and Joe Bousard (piano and vocals) to bring back their holiday cabaret full of swingin’ favorites and unexpected new surprises.
URL:https://asukerr.com/event/a-swingin-christmas/
CATEGORIES:Other Presenters
ATTACH;FMTTYPE=image/jpeg:https://asukerr.com/wp-content/uploads/2022/11/A-Swingin-Christmas-Promo-Photo.jpg
END:VEVENT
BEGIN:VEVENT
DTSTART;TZID=America/Phoenix:20221208T193000
DTEND;TZID=America/Phoenix:20221208T213000
DTSTAMP:20260420T151359
CREATED:20220926T214719Z
LAST-MODIFIED:20221014T202719Z
UID:10000033-1670527800-1670535000@asukerr.com
SUMMARY:A Christmas Night in Ireland
DESCRIPTION:Experience the joy of An Irish Christmas as seen on PBS! Enjoy all the holiday carols you know and love plus a spectacular high-energy display of Irish dancing at its very best. An Irish Christmas is a celebration of family and community that showcases some of the great Irish holiday traditions and features award-winning dancers from Riverdance\, Lord of the Dance and Celtic Wings. Now everyone can be Irish for the Christmas holidays! \n\n\n\n“… Genuinely astonishing … electric!” – The Village News“Magical … glorious Irish music … remarkable … pure joy … a great Irish night!” – The Irish Herald \n\n	\n\n\n\n\n			\n\nExperience the joy of An Irish Christmas as seen on PBS! Enjoy all the holiday carols you know and love plus a spectacular high-energy display of Irish dancing at its very best.
URL:https://asukerr.com/event/a-christmas-night-in-ireland/
CATEGORIES:Other Presenters
ATTACH;FMTTYPE=image/jpeg:https://asukerr.com/wp-content/uploads/2022/09/christmasireland2022-scaled.jpeg
END:VEVENT
BEGIN:VEVENT
DTSTART;TZID=America/Phoenix:20221119T190000
DTEND;TZID=America/Phoenix:20221119T210000
DTSTAMP:20260420T151359
CREATED:20220926T214500Z
LAST-MODIFIED:20221019T180005Z
UID:10000032-1668884400-1668891600@asukerr.com
SUMMARY:Songs and Stories from a Not-Quite-Kosher Life
DESCRIPTION:A solo show by Penny Orloff“Penny Orloff… assured and excellent in every way.”  –New York Times \n\n\n\nPenny Orloff was a working actor/dancer in LA when a Juilliard scholarship took her to New York. She had featured roles on Broadway\, working for such directors as Harold Prince and Joseph Papp\, and sang more than 20 Principal Soprano roles for New York City Opera under Julius Rudel and Beverly Sills. In a career spanning more than 50 years\, she starred in over 100 productions off-Broadway\, regionally and internationally. Her first solo show\, “Jewish Thighs on Broadway” (based on her best-selling novel of the same name\, available on Amazon)\, toured the U.S. for a decade\, including a successful off-Broadway run in 2005. Having outlived most of her early competition for film roles\, since 2012 she has enjoyed acting in a range of interesting shorts\, indie and feature films (silver-white hair and a Botox-free face are\, apparently\, in short supply in LA…). \n\n	\n\n\n\n\n			\n\nBroadway musical theater actress Penny Orloff’s solo show is back on the road\, bursting with heirloom melodies\, stories of her Jewish immigrant family and tales from her zany life in showbiz.
URL:https://asukerr.com/event/songs-and-stories-from-a-not-quite-kosher-life/
CATEGORIES:Other Presenters
ATTACH;FMTTYPE=image/jpeg:https://asukerr.com/wp-content/uploads/2022/09/kosher_life_promo_2.jpeg
END:VEVENT
BEGIN:VEVENT
DTSTART;TZID=America/Phoenix:20221023T150000
DTEND;TZID=America/Phoenix:20221023T170000
DTSTAMP:20260420T151359
CREATED:20220926T214100Z
LAST-MODIFIED:20220926T214101Z
UID:10000031-1666537200-1666544400@asukerr.com
SUMMARY:Jazz Etcetera 2022 with Pinna Joseph\, voice and Charles Lewis\, piano
DESCRIPTION:Pinna Joseph\, voice\, and Charles Lewis\, piano\, will perform a versatile collection of songs\, drawn from the song genres of Broadway\, standards\, Brazilian and folk repertoire framed\, interpreted and delivered in a jazz-influenced style. Dwight Kilian\, stand-up bass and Dennis Yee\, cello\, will join them.
URL:https://asukerr.com/event/jazz-etcetera-2022-with-pinna-joseph-voice-and-charles-lewis-piano/
CATEGORIES:Other Presenters
ATTACH;FMTTYPE=image/jpeg:https://asukerr.com/wp-content/uploads/2022/09/tm_photo_pinna.jpeg
END:VEVENT
BEGIN:VEVENT
DTSTART;TZID=America/Phoenix:20221008T190000
DTEND;TZID=America/Phoenix:20221008T210000
DTSTAMP:20260420T151359
CREATED:20220926T213522Z
LAST-MODIFIED:20220928T203536Z
UID:10000030-1665255600-1665262800@asukerr.com
SUMMARY:Birdsong: a Concert Event by Nicole Larsen
DESCRIPTION:Birdsong is a family friendly\, artistic cultural concert event by Nicole Larsen\, which includes an art talk by featured Southwest artist Virginia Primozic and catering by local\, family-owned eatery Hatch It. The concert centers around themes of freedom\, challenging social norms and expectations\, and hope and joy that each morning can bring. From jazz\, musical theater\, classical and even operatic styles\, there is sure to be something for everyone\, and a night to remember! \n\n	\n\n\n\n\n			\n\nBirdsong is a family friendly\, artistic cultural concert event by Nicole Larsen\, which includes an art talk by featured Southwest artist Virginia Primozic and catering by local\, family-owned eatery Hatch It.
URL:https://asukerr.com/event/birdsong-a-concert-event-by-nicole-larsen/
CATEGORIES:Other Presenters
ATTACH;FMTTYPE=image/jpeg:https://asukerr.com/wp-content/uploads/2022/09/tm_image_nicole_larsen_resized.jpeg
END:VEVENT
BEGIN:VEVENT
DTSTART;TZID=America/Phoenix:20220929T190000
DTEND;TZID=America/Phoenix:20221001T190000
DTSTAMP:20260420T151359
CREATED:20220926T213232Z
LAST-MODIFIED:20220928T203126Z
UID:10000029-1664478000-1664650800@asukerr.com
SUMMARY:The Kissing Curse
DESCRIPTION:B3 Theater presents “The Kissing Curse” Three nights: Thursday\, September 29\, Friday\, September 30\, and Saturday\, October 1 \n\n\n\nThe Kissing Curse by Kirt Shineman is a psychological terror full-length play based on historical events. Something beyond comprehension is happening to a Black patient in a mental hospital in Texas\, and the head nurse of the Black ward is his last resort. Dr. Packchanian is on a mission for the National Institute of Health to find the cause of chagas disease. When he arrives at his host hospital in Austin\, Nurse Elinor accepts him without question. But after she discovers the doctor’s methods\, Nurse Elinor decides he’s a monster. With all her cunning\, Nurse Elinor tries to stop Packchanian’s experiments. Based on real events\, the research into the kissing bug and chagas disease reveals more about the pathology of racism than the pathology of parasites. \n\n	\n\n\n\n\n			\n\nB3 Theater presents “The Kissing Curse\,” a psychological play based on historical events.
URL:https://asukerr.com/event/the-kissing-curse/
CATEGORIES:Other Presenters
ATTACH;FMTTYPE=image/png:https://asukerr.com/wp-content/uploads/2022/09/kissingcurse.png
END:VEVENT
END:VCALENDAR