BEGIN:VCALENDAR
VERSION:2.0
PRODID:-//ASU Kerr - ECPv6.15.20//NONSGML v1.0//EN
CALSCALE:GREGORIAN
METHOD:PUBLISH
X-ORIGINAL-URL:https://asukerr.com
X-WR-CALDESC:Events for ASU Kerr
REFRESH-INTERVAL;VALUE=DURATION:PT1H
X-Robots-Tag:noindex
X-PUBLISHED-TTL:PT1H
BEGIN:VTIMEZONE
TZID:America/Phoenix
BEGIN:STANDARD
TZOFFSETFROM:-0700
TZOFFSETTO:-0700
TZNAME:MST
DTSTART:20210101T000000
END:STANDARD
END:VTIMEZONE
BEGIN:VEVENT
DTSTART;TZID=America/Phoenix:20240326T103000
DTEND;TZID=America/Phoenix:20240326T120000
DTSTAMP:20260421T133401
CREATED:20230915T235930Z
LAST-MODIFIED:20230919T163123Z
UID:10000081-1711449000-1711454400@asukerr.com
SUMMARY:Tuesday Morning Music and Tea - Studio Viola Recital
DESCRIPTION:Studio Viola Recital  \n\n\n\nJoin the students of Nancy Buck for this Viola Studio Recital!  \n\n\n\nCo-presented with ASU School of Music  \n\n\n\nTea events are part of a series of free\, informal presentations featuring musicians from the ASU School of Music. We encourage patrons to contribute a suggested donation of $5 and bring a can of food or sealed personal item to be donated to Vista del Camino Food Bank.  \n\n\n\nTea and refreshments are served in the Crescendo Garden at 9:30 am. Event begins at 10:30 am.
URL:https://asukerr.com/event/tuesday-morning-music-and-tea-studio-viola-recital/
CATEGORIES:Free,Tuesday Morning Music & Tea
ATTACH;FMTTYPE=image/png:https://asukerr.com/wp-content/uploads/2023/09/tm-image-tea.png
END:VEVENT
BEGIN:VEVENT
DTSTART;TZID=America/Phoenix:20240220T103000
DTEND;TZID=America/Phoenix:20240220T120000
DTSTAMP:20260421T133401
CREATED:20230915T235938Z
LAST-MODIFIED:20230919T163140Z
UID:10000082-1708425000-1708430400@asukerr.com
SUMMARY:Tuesday Morning Music and Tea - ASU Saxes at Kerr
DESCRIPTION:ASU Saxes at Kerr \n\n\n\nJoin the internationally award-winning saxophonists of Arizona State University as they present a concert of music in an incredible variety of styles! \n\n\n\nCo-presented with ASU School of Music \n\n\n\nTea events are part of a series of free\, informal presentations featuring musicians from the ASU School of Music. We encourage patrons to contribute a suggested donation of $5 and bring a can of food or sealed personal item to be donated to Vista del Camino Food Bank. \n\n\n\nTea and refreshments are served in the Crescendo Garden at 9:30 a.m.Event begins at 10:30 a.m.
URL:https://asukerr.com/event/tuesday-morning-music-and-tea-asu-saxes-at-kerr/
CATEGORIES:Free,Tuesday Morning Music & Tea
ATTACH;FMTTYPE=image/png:https://asukerr.com/wp-content/uploads/2023/09/tm-image-tea.png
END:VEVENT
BEGIN:VEVENT
DTSTART;TZID=America/Phoenix:20240123T103000
DTEND;TZID=America/Phoenix:20240123T120000
DTSTAMP:20260421T133401
CREATED:20230915T235941Z
LAST-MODIFIED:20240117T165936Z
UID:10000083-1706005800-1706011200@asukerr.com
SUMMARY:Tuesday Morning Music and Tea - Piano Students of Dr. Baruch Meir
DESCRIPTION:Piano Students of Dr. Baruch Meir  \n\n\n\nOutstanding piano students from the studio of Dr. Baruch Meir at ASU.  \n\n\n\nCo-presented with ASU School of Music  \n\n\n\nTea events are part of a series of free\, informal presentations featuring musicians from the ASU School of Music. We encourage patrons to contribute a suggested donation of $5 and bring a can of food or sealed personal item to be donated to Vista del Camino Food Bank.  \n\n\n\nTea and refreshments are served in the Crescendo Garden at 9:30 a.m. Event begins at 10:30 a.m. \n\n\n\nThis program is also livestreamed and available after the event. Tune in at our YouTube Channel
URL:https://asukerr.com/event/tuesday-morning-music-and-tea-piano-students-of-dr-baruch-meir/
CATEGORIES:Free,Tuesday Morning Music & Tea
ATTACH;FMTTYPE=image/png:https://asukerr.com/wp-content/uploads/2023/09/tm-image-tea.png
END:VEVENT
BEGIN:VEVENT
DTSTART;TZID=America/Phoenix:20231205T103000
DTEND;TZID=America/Phoenix:20231205T120000
DTSTAMP:20260421T133401
CREATED:20230915T235949Z
LAST-MODIFIED:20231023T200220Z
UID:10000084-1701772200-1701777600@asukerr.com
SUMMARY:Tuesday Morning Music and Tea - Collaboration Piano Recital
DESCRIPTION:Collaboration Piano Recital  \n\n\n\nPlease join the ASU Collaborative Piano Studio and their vocal and instrumental colleagues as they present a varied program of songs and chamber works. \n\n\n\nCo-presented with ASU School of Music  \n\n\n\nTea events are part of a series of free\, informal presentations featuring musicians from the ASU School of Music. We encourage patrons to contribute a suggested donation of $5 and bring a can of food or sealed personal item to be donated to Vista del Camino Food Bank.  \n\n\n\nTea and refreshments are served in the Crescendo Garden at 9:30 a.m. Event begins at 10:30 a.m.
URL:https://asukerr.com/event/tuesday-morning-music-and-tea-collaboration-piano-recital/
CATEGORIES:Free,Tuesday Morning Music & Tea
ATTACH;FMTTYPE=image/png:https://asukerr.com/wp-content/uploads/2023/09/tm-image-tea.png
END:VEVENT
BEGIN:VEVENT
DTSTART;TZID=America/Phoenix:20231107T103000
DTEND;TZID=America/Phoenix:20231107T120000
DTSTAMP:20260421T133401
CREATED:20230915T235952Z
LAST-MODIFIED:20231107T180729Z
UID:10000085-1699353000-1699358400@asukerr.com
SUMMARY:Tuesday Morning Music and Tea - Violin Extraordinaire
DESCRIPTION:Violin Extraordinaire  \n\n\n\nJoin us for a beautiful morning concert at ASU Kerr. Program will feature a selection of extraordinary music compositions by great masters\, performed by students of ASU violin professor Danwen Jiang.  \n\n\n\nCo-presented with ASU School of Music  \n\n\n\nTea events are part of a series of free\, informal presentations featuring musicians from the ASU School of Music. We encourage patrons to contribute a suggested donation of $5 and bring a can of food or sealed personal item to be donated to Vista del Camino Food Bank.  \n\n\n\nTea and refreshments are served in the Crescendo Garden at 9:30 a.m. Event begins at 10:30 a.m. \n\n\n\nWatch the livestream at youtube.com/asukerr
URL:https://asukerr.com/event/tuesday-morning-music-and-tea-violin-extraordinaire/
CATEGORIES:Free,Tuesday Morning Music & Tea
ATTACH;FMTTYPE=image/png:https://asukerr.com/wp-content/uploads/2023/09/tm-image-tea.png
END:VEVENT
BEGIN:VEVENT
DTSTART;TZID=America/Phoenix:20231003T103000
DTEND;TZID=America/Phoenix:20231003T120000
DTSTAMP:20260421T133401
CREATED:20230915T235956Z
LAST-MODIFIED:20231003T134155Z
UID:10000086-1696329000-1696334400@asukerr.com
SUMMARY:Tuesday Morning Music and Tea - Duo Hybrids: Elizabeth Buck and Magda Schwerzmann\, Flutes
DESCRIPTION:Duo Hybrids: Elizabeth Buck and Magda Schwerzmann\, Flutes  \n\n\n\nWood\, metal\, large\, small\, east\, west – music for flutes\, old and new\, with Elizabeth Buck and Magda Schwerzmann.  \n\n\n\nCo-presented with ASU School of Music  \n\n\n\nTea events are part of a series of free\, informal presentations featuring musicians from the ASU School of Music. We encourage patrons to contribute a suggested donation of $5 and bring a can of food or sealed personal item to be donated to Vista del Camino Food Bank.  \n\n\n\nTea and refreshments are served in the Crescendo Garden at 9:30 a.m. Event begins at 10:30 a.m. \n\n\n\nCan’t join us in person? Watch the livestream at showtime or view the video after the show! \n\n\n\n	\n\n			\n			Watch on ASU Kerr’s YouTube channel
URL:https://asukerr.com/event/tuesday-morning-music-and-tea-duo-hybrids-elizabeth-buck-and-magda-schwerzmann-flutes/
CATEGORIES:Free,Tuesday Morning Music & Tea
ATTACH;FMTTYPE=image/png:https://asukerr.com/wp-content/uploads/2023/09/tm-image-tea.png
END:VEVENT
BEGIN:VEVENT
DTSTART;TZID=America/Phoenix:20230418T093000
DTEND;TZID=America/Phoenix:20230418T113000
DTSTAMP:20260421T133401
CREATED:20220926T180839Z
LAST-MODIFIED:20230418T171303Z
UID:10000024-1681810200-1681817400@asukerr.com
SUMMARY:Tuesday Morning Music & Tea: ASU Saxophones
DESCRIPTION:The ASU School of Music joins ASU Kerr in presenting free\, informative and entertaining concerts that feature performances and commentary by faculty members and graduate and doctoral students. We encourage patrons to contribute a suggested donation of $5 and bring a can of food or sealed personal item to be donated to Vista del Camino Food Bank. \n\n\n\nTea and refreshments are served in the Crescendo Garden at 9:30 a.m.\, programs begin at 10:30. \n\n\n\n \n\n\n\nCan’t join us in person? Head over to youtube.com/asukerr to watch live online or catch the archived video later. \n\n	\n\n\n\n\n			\n\nThe ASU School of Music joins ASU Kerr in presenting free\, informative and entertaining concerts that feature performances and commentary by faculty members and graduate and doctoral students.  \n\n\n\n \n\n\n\nFor the smoothest RSVP process\, please click below to reserve your seats. You must register with Ticketmaster if you haven’t created an account yet.
URL:https://asukerr.com/event/tuesday-morning-music-tea-asu-saxophones/
CATEGORIES:Free,Tuesday Morning Music & Tea
ATTACH;FMTTYPE=image/png:https://asukerr.com/wp-content/uploads/2022/09/tuesday-tea-sax.png
END:VEVENT
BEGIN:VEVENT
DTSTART;TZID=America/Phoenix:20230328T093000
DTEND;TZID=America/Phoenix:20230328T113000
DTSTAMP:20260421T133401
CREATED:20220926T180210Z
LAST-MODIFIED:20230328T175435Z
UID:10000023-1679995800-1680003000@asukerr.com
SUMMARY:Tuesday Morning Music & Tea: Piano Students of Dr. Baruch Meir
DESCRIPTION:The ASU School of Music joins ASU Kerr in presenting free\, informative and entertaining concerts that feature performances and commentary by faculty members and graduate and doctoral students. We encourage patrons to contribute a suggested donation of $5 and bring a can of food or sealed personal item to be donated to Vista del Camino Food Bank. \n\n\n\nTea and refreshments are served in the Crescendo Garden at 9:30 a.m.\, programs begin at 10:30. \n\n\n\n \n\n\n\nThis is a hybrid program; tune in live or watch the archived video at youtube.com/asukerr \n\n	\n\n\n\n\n			\n\nThe ASU School of Music joins ASU Kerr in presenting free\, informative and entertaining concerts that feature performances and commentary by faculty members and graduate and doctoral students.  \n\n\n\n \n\n\n\nFor the smoothest RSVP process\, please click below to reserve your seats. You will need to create an account with Ticketmaster if you do not have one yet.
URL:https://asukerr.com/event/tuesday-morning-music-tea-piano-students-of-dr-baruch-meir/
CATEGORIES:Free,Tuesday Morning Music & Tea
ATTACH;FMTTYPE=image/png:https://asukerr.com/wp-content/uploads/2022/09/2015_som_476.png
END:VEVENT
BEGIN:VEVENT
DTSTART;TZID=America/Phoenix:20230221T093000
DTEND;TZID=America/Phoenix:20230221T113000
DTSTAMP:20260421T133401
CREATED:20220926T175724Z
LAST-MODIFIED:20230221T043530Z
UID:10000021-1676971800-1676979000@asukerr.com
SUMMARY:Tuesday Morning Music & Tea: Encore: The ASU Collaborative Piano and String Studios
DESCRIPTION:Please join the ASU Collaborative piano studio and their string colleagues for a morning of exciting encores\, passionate melodies and dynamic shorter works for piano and strings. \n\n\n\n \n\n\n\nThe ASU School of Music joins ASU Kerr in presenting free\, informative and entertaining concerts that feature performances and commentary by faculty members and graduate and doctoral students. We encourage patrons to contribute a suggested donation of $5 and bring a can of food or sealed personal item to be donated to Vista del Camino Food Bank. \n\n\n\nTea and refreshments are served in the Crescendo Garden at 9:30 a.m.\, programs begin at 10:30. \n\n\n\nCan’t make it in person? Tune in at ASU Kerr’s Youtube channel \n\n	\n\n\n\n\n			\n\nThe ASU School of Music joins ASU Kerr in presenting free\, informative and entertaining concerts that feature performances and commentary by faculty members and graduate and doctoral students. \n\n\n\n \n\n\n\nFor the smoothest RSVP process\, please click below to reserve your seats. You will need to create an account with Ticketmaster if you do not have one yet.
URL:https://asukerr.com/event/tuesday-morning-music-tea-encore-the-asu-collaborative-piano-and-string-studios/
CATEGORIES:Free,Tuesday Morning Music & Tea
ATTACH;FMTTYPE=image/png:https://asukerr.com/wp-content/uploads/2022/09/piano-coffee-tea.png
END:VEVENT
BEGIN:VEVENT
DTSTART;TZID=America/Phoenix:20221206T093000
DTEND;TZID=America/Phoenix:20221206T113000
DTSTAMP:20260421T133401
CREATED:20220926T175105Z
LAST-MODIFIED:20221107T183115Z
UID:10000020-1670319000-1670326200@asukerr.com
SUMMARY:Tuesday Morning Music & Tea: ASU Community Flute Ensemble
DESCRIPTION:Co-Hosted by Brenda Foley and Will Rogers with Musical Director Raymond Cusick \n\n\n\nThe ASU School of Music joins ASU Kerr in presenting free\, informative and entertaining concerts that feature performances and commentary by faculty members and graduate and doctoral students. We encourage patrons to contribute a suggested donation of $5 and bring a can of food or sealed personal item to be donated to Vista del Camino Food Bank. \n\n\n\nTea and refreshments are served in the Crescendo Garden at 9:30 a.m.\, programs begin at 10:30. \n\n	\n\n\n\n\n			\n\nThe ASU School of Music joins ASU Kerr in presenting free\, informative and entertaining concerts that feature performances and commentary by faculty members and graduate and doctoral students.
URL:https://asukerr.com/event/tuesday-morning-music-tea-asu-community-flute-ensemble/
CATEGORIES:Free,Tuesday Morning Music & Tea
ATTACH;FMTTYPE=image/png:https://asukerr.com/wp-content/uploads/2022/09/Screen-Shot-2022-09-26-at-10.50.27-AM.png
END:VEVENT
BEGIN:VEVENT
DTSTART;TZID=America/Phoenix:20221115T093000
DTEND;TZID=America/Phoenix:20221115T113000
DTSTAMP:20260421T133401
CREATED:20220926T174426Z
LAST-MODIFIED:20221115T044657Z
UID:10000019-1668504600-1668511800@asukerr.com
SUMMARY:Tuesday Morning Music & Tea: Horn\, Tuba and Piano - AHA!
DESCRIPTION:Join ASU music faculty John Ericson\, Deanna Swoboda and Hannah Creviston\, celebrating the music of diverse composers with engaging and colorful sounds for piano\, horn and tuba (and didgeridoo!). \n\n\n\nThe ASU School of Music joins ASU Kerr in presenting free\, informative and entertaining concerts that feature performances and commentary by faculty members and graduate and doctoral students. We encourage patrons to contribute a suggested donation of $5 and bring a can of food or sealed personal item to be donated to Vista del Camino Food Bank. \n\n\n\nTea and refreshments are served in the Crescendo Garden at 9:30 a.m.\, programs begin at 10:30. \n\n	\n\n\n\n\n			\n\nThe ASU School of Music joins ASU Kerr in presenting free\, informative and entertaining concerts that feature performances and commentary by faculty members and graduate and doctoral students. We encourage patrons to contribute a suggested donation of $5 and bring a can of food or sealed personal item to be donated to Vista del Camino Food Bank.
URL:https://asukerr.com/event/tuesday-morning-music-tea-horn-tuba-and-piano-aha/
CATEGORIES:Free,Tuesday Morning Music & Tea
ATTACH;FMTTYPE=image/jpeg:https://asukerr.com/wp-content/uploads/2022/09/horn-tuba-and-more-tuesday-tea-scaled.jpg
END:VEVENT
BEGIN:VEVENT
DTSTART;TZID=America/Phoenix:20221003T093000
DTEND;TZID=America/Phoenix:20221003T113000
DTSTAMP:20260421T133401
CREATED:20220926T174003Z
LAST-MODIFIED:20220928T203424Z
UID:10000018-1664789400-1664796600@asukerr.com
SUMMARY:Tuesday Morning Music & Tea: Branded Degenerate: Voices Silenced
DESCRIPTION:Co-Hosted by Brenda Foley and Will Rogers with Musical Director Raymond Cusick \n\n\n\nThe ASU School of Music joins ASU Kerr in presenting free\, informative and entertaining concerts that feature performances and commentary by faculty members and graduate and doctoral students. We encourage patrons to contribute a suggested donation of $5 and bring a can of food or sealed personal item to be donated to Vista del Camino Food Bank. Branded Degenerate: Voices Silenced has music related to the holocaust. \n\n\n\nFeaturing: Amanda DeMaris\, soprano; Christopher Creviston\, saxophone; Hannah Creviston\, piano \n\n\n\nTea and refreshments are served in the Crescendo Garden at 9:30 a.m.\, programs begin at 10:30. \n\n	\n\n\n\n\n			\n\nASU Music joins ASU Kerr in presenting a concert featuring Amanda DeMaris\, soprano; Christopher Creviston\, saxophone; and Hannah Creviston\, piano.
URL:https://asukerr.com/event/tuesday-morning-music-tea-branded-degenerate-voices-silenced/
CATEGORIES:Tuesday Morning Music & Tea
ATTACH;FMTTYPE=image/png:https://asukerr.com/wp-content/uploads/2022/09/2015_som_476.png
END:VEVENT
END:VCALENDAR